BEGIN:VCALENDAR
VERSION:2.0
PRODID:-//ChamberMaster//Event Calendar 2.0//EN
METHOD:PUBLISH
X-PUBLISHED-TTL:P1H
REFRESH-INTERVAL:P1H
CALSCALE:GREGORIAN
BEGIN:VTIMEZONE
TZID:America/New_York
BEGIN:DAYLIGHT
RRULE:FREQ=YEARLY;BYMONTH=3;BYDAY=2SU
DTSTART:20070101T000000
TZOFFSETFROM:-0500
TZOFFSETTO:-0400
TZNAME:Eastern Daylight Time
END:DAYLIGHT
BEGIN:STANDARD
RRULE:FREQ=YEARLY;BYMONTH=11;BYDAY=1SU
DTSTART:20070101T000000
TZOFFSETFROM:-0400
TZOFFSETTO:-0500
TZNAME:Eastern Standard Time
END:STANDARD
END:VTIMEZONE
BEGIN:VEVENT
DTSTART;TZID=America/New_York:20260610T000000
DTEND;TZID=America/New_York:20260610T013000
X-MICROSOFT-CDO-ALLDAYEVENT:FALSE
SUMMARY:LUNCH & LEARN | Build a Business Someone Would Want to Buy (Even If You’re Not Selling Yet)
DESCRIPTION:LUNCH & LEARN | Build a Business Someone Would Want to Buy (Even If You're Not Selling Yet)Most business owners think about selling way too late. The reality? The same things that make your business attractive to a buyer also make it stronger and more profitable today.Join us for this practical Lunch & Learn to discover what actually drives business value\, common red flags that reduce it\, and simple strategies to start building a more valuable business now.🍽️ Lunch provided (sandwiches + refreshments)\n🕛 Time: 12:00 PM\n📍 Location: Stoney Creek ChamberBrought to you by Zachary Sloan CFP from IG Private Wealth Management and the Stoney Creek Chamber👉 A great session for business owners who want to build smarter\, not just busier.
X-ALT-DESC;FMTTYPE=text/html:<!DOCTYPE html><html><head><title></title></head><body aria-disabled="false"><p><strong data-end="2864" data-start="2769" fr-original-style="" style="font-weight: 700\;">LUNCH &amp\; LEARN | Build a Business Someone Would Want to Buy (Even If You&rsquo\;re Not Selling Yet)</strong></p><p data-end="3046" data-start="2866">Most business owners think about selling <em data-end="2922" data-start="2907">way too late.</em>&nbsp\;</p><p data-end="3046" data-start="2866">The reality? The same things that make your business attractive to a buyer also make it stronger and more profitable today.</p><p data-end="3240" data-start="3048">Join us for this practical Lunch &amp\; Learn to discover what actually drives business value\, common red flags that reduce it\, and simple strategies to start building a more valuable business now.</p><p data-end="3344" data-start="3242">🍽️ Lunch provided (sandwiches + refreshments)<br data-start="3288" data-end="3291">🕛 Time: 12:00 PM<br data-start="3308" data-end="3311">📍 Location: Stoney Creek Chamber</p><p data-end="3344" data-start="3242">Brought to you by Zachary Sloan CFP from IG Private Wealth Management and the Stoney Creek Chamber</p><p data-end="3430" data-start="3346">👉 <em data-end="3430" data-start="3349">A great session for business owners who want to build smarter\, not just busier.</em></p></body></html>
LOCATION:21 Mountain Ave. S. Stoney Creek ON L8G 2V5
UID:e.2586.1448627
SEQUENCE:3
DTSTAMP:20260423T234645Z
URL:https://business.chamberstoneycreek.com/event-calendar/Details/lunch-learn-build-a-business-someone-would-want-to-buy-even-if-you-re-not-selling-yet-1715695?sourceTypeId=Hub
END:VEVENT
END:VCALENDAR
